BEGIN:VCALENDAR
VERSION:2.0
PRODID:icalendar-ruby
CALSCALE:GREGORIAN
METHOD:PUBLISH
BEGIN:VEVENT
DTSTAMP:20260421T123714Z
UID:90-825@canvaschurchdmv.com
DTSTART:20260528T160000Z
DTEND:20260528T180000Z
CLASS:PUBLIC
CREATED:20260420T201452
DESCRIPTION:Join us for food &amp\; fellowship! All are welcome.
LAST-MODIFIED:20260420T201452
LOCATION:219 N. Division St.\, Salisbury\, MD 21801
SUMMARY:Senior Adult Luncheon
URL;VALUE=URI:https://canvaschurchdmv.com/events/senior-adult-luncheon--90/
 2026-05-28
ATTACH;FILENAME=Canvas-General-Slide.jpg;FMTTYPE=image/jpeg:https://dq5pwpg
 1q8ru0.cloudfront.net/2026/04/21/00/14/52/aa2fe69e-807e-436a-af12-c0d13664
 961b/Canvas-General-Slide.jpg
END:VEVENT
END:VCALENDAR
